BEGIN:VCALENDAR
VERSION:2.0
PRODID:-//Schützengesellschaft Buchs-Räfis - ECPv6.15.20//NONSGML v1.0//EN
CALSCALE:GREGORIAN
METHOD:PUBLISH
X-ORIGINAL-URL:https://schuetzenbuchsraefis.ch
X-WR-CALDESC:Veranstaltungen für Schützengesellschaft Buchs-Räfis
REFRESH-INTERVAL;VALUE=DURATION:PT1H
X-Robots-Tag:noindex
X-PUBLISHED-TTL:PT1H
BEGIN:VTIMEZONE
TZID:Europe/Vaduz
BEGIN:DAYLIGHT
TZOFFSETFROM:+0100
TZOFFSETTO:+0200
TZNAME:CEST
DTSTART:20250330T010000
END:DAYLIGHT
BEGIN:STANDARD
TZOFFSETFROM:+0200
TZOFFSETTO:+0100
TZNAME:CET
DTSTART:20251026T010000
END:STANDARD
BEGIN:DAYLIGHT
TZOFFSETFROM:+0100
TZOFFSETTO:+0200
TZNAME:CEST
DTSTART:20260329T010000
END:DAYLIGHT
BEGIN:STANDARD
TZOFFSETFROM:+0200
TZOFFSETTO:+0100
TZNAME:CET
DTSTART:20261025T010000
END:STANDARD
BEGIN:DAYLIGHT
TZOFFSETFROM:+0100
TZOFFSETTO:+0200
TZNAME:CEST
DTSTART:20270328T010000
END:DAYLIGHT
BEGIN:STANDARD
TZOFFSETFROM:+0200
TZOFFSETTO:+0100
TZNAME:CET
DTSTART:20271031T010000
END:STANDARD
END:VTIMEZONE
BEGIN:VEVENT
DTSTART;TZID=Europe/Vaduz:20260612T163000
DTEND;TZID=Europe/Vaduz:20260612T200000
DTSTAMP:20260424T133315
CREATED:20260223T094116Z
LAST-MODIFIED:20260223T094116Z
UID:10001250-1781281800-1781294400@schuetzenbuchsraefis.ch
SUMMARY:Sargans Knappenschiessen
DESCRIPTION:
URL:https://schuetzenbuchsraefis.ch/event/sargans-knappenschiessen/
CATEGORIES:300 Meter
END:VEVENT
BEGIN:VEVENT
DTSTART;TZID=Europe/Vaduz:20260612T170000
DTEND;TZID=Europe/Vaduz:20260612T203000
DTSTAMP:20260424T133315
CREATED:20260119T131517Z
LAST-MODIFIED:20260119T131517Z
UID:10001207-1781283600-1781296200@schuetzenbuchsraefis.ch
SUMMARY:Speckschiessen
DESCRIPTION:
URL:https://schuetzenbuchsraefis.ch/event/speckschiessen-3/
CATEGORIES:300 Meter
END:VEVENT
BEGIN:VEVENT
DTSTART;TZID=Europe/Vaduz:20260613T080000
DTEND;TZID=Europe/Vaduz:20260613T120000
DTSTAMP:20260424T133315
CREATED:20260119T131551Z
LAST-MODIFIED:20260119T131551Z
UID:10001208-1781337600-1781352000@schuetzenbuchsraefis.ch
SUMMARY:Speckschiessen
DESCRIPTION:
URL:https://schuetzenbuchsraefis.ch/event/speckschiessen-4/
CATEGORIES:300 Meter
END:VEVENT
BEGIN:VEVENT
DTSTART;TZID=Europe/Vaduz:20260613T083000
DTEND;TZID=Europe/Vaduz:20260613T120000
DTSTAMP:20260424T133315
CREATED:20260223T094250Z
LAST-MODIFIED:20260223T094250Z
UID:10001251-1781339400-1781352000@schuetzenbuchsraefis.ch
SUMMARY:Sargans Knappenschiessen
DESCRIPTION:
URL:https://schuetzenbuchsraefis.ch/event/sargans-knappenschiessen-2/2026-06-13/
CATEGORIES:300 Meter
END:VEVENT
BEGIN:VEVENT
DTSTART;TZID=Europe/Vaduz:20260613T120000
DTEND;TZID=Europe/Vaduz:20260613T170000
DTSTAMP:20260424T133315
CREATED:20260119T120638Z
LAST-MODIFIED:20260119T120638Z
UID:10001118-1781352000-1781370000@schuetzenbuchsraefis.ch
SUMMARY:Sennwald: JS-Wettschiessen
DESCRIPTION:
URL:https://schuetzenbuchsraefis.ch/event/sennwald-js-wettschiessen/
CATEGORIES:300 Meter
END:VEVENT
BEGIN:VEVENT
DTSTART;TZID=Europe/Vaduz:20260613T133000
DTEND;TZID=Europe/Vaduz:20260613T153000
DTSTAMP:20260424T133315
CREATED:20260223T094451Z
LAST-MODIFIED:20260223T094451Z
UID:10001254-1781357400-1781364600@schuetzenbuchsraefis.ch
SUMMARY:Sennwald JS-Wettschiessen
DESCRIPTION:
URL:https://schuetzenbuchsraefis.ch/event/sennwald-js-wettschiessen-2/
CATEGORIES:300 Meter
END:VEVENT
BEGIN:VEVENT
DTSTART;TZID=Europe/Vaduz:20260616T180000
DTEND;TZID=Europe/Vaduz:20260616T203000
DTSTAMP:20260424T133315
CREATED:20260119T122444Z
LAST-MODIFIED:20260119T122444Z
UID:10001137-1781632800-1781641800@schuetzenbuchsraefis.ch
SUMMARY:Training
DESCRIPTION:
URL:https://schuetzenbuchsraefis.ch/event/training/2026-06-16/
CATEGORIES:300 Meter
END:VEVENT
BEGIN:VEVENT
DTSTART;TZID=Europe/Vaduz:20260616T190000
DTEND;TZID=Europe/Vaduz:20260616T211500
DTSTAMP:20260424T133315
CREATED:20260119T120331Z
LAST-MODIFIED:20260119T120331Z
UID:10001116-1781636400-1781644500@schuetzenbuchsraefis.ch
SUMMARY:JS-Kurs
DESCRIPTION:
URL:https://schuetzenbuchsraefis.ch/event/js-kurs-6/2026-06-16/
CATEGORIES:300 Meter
END:VEVENT
BEGIN:VEVENT
DTSTART;TZID=Europe/Vaduz:20260618T180000
DTEND;TZID=Europe/Vaduz:20260618T203000
DTSTAMP:20260424T133315
CREATED:20260119T125621Z
LAST-MODIFIED:20260119T125621Z
UID:10001177-1781805600-1781814600@schuetzenbuchsraefis.ch
SUMMARY:Training
DESCRIPTION:
URL:https://schuetzenbuchsraefis.ch/event/training-8/2026-06-18/
CATEGORIES:300 Meter
END:VEVENT
BEGIN:VEVENT
DTSTART;TZID=Europe/Vaduz:20260619T163000
DTEND;TZID=Europe/Vaduz:20260619T200000
DTSTAMP:20260424T133315
CREATED:20260223T094549Z
LAST-MODIFIED:20260223T094549Z
UID:10001255-1781886600-1781899200@schuetzenbuchsraefis.ch
SUMMARY:Wildhaus Schofbergschiessen
DESCRIPTION:
URL:https://schuetzenbuchsraefis.ch/event/wildhaus-schofbergschiessen/
CATEGORIES:300 Meter
END:VEVENT
BEGIN:VEVENT
DTSTART;TZID=Europe/Vaduz:20260620T080000
DTEND;TZID=Europe/Vaduz:20260620T180000
DTSTAMP:20260424T133315
CREATED:20260223T094644Z
LAST-MODIFIED:20260223T094644Z
UID:10001256-1781942400-1781978400@schuetzenbuchsraefis.ch
SUMMARY:Wildhaus Schofbergschiessen
DESCRIPTION:
URL:https://schuetzenbuchsraefis.ch/event/wildhaus-schofbergschiessen-2/
CATEGORIES:300 Meter
END:VEVENT
BEGIN:VEVENT
DTSTART;TZID=Europe/Vaduz:20260620T083000
DTEND;TZID=Europe/Vaduz:20260620T120000
DTSTAMP:20260424T133315
CREATED:20260223T094250Z
LAST-MODIFIED:20260223T094250Z
UID:10001252-1781944200-1781956800@schuetzenbuchsraefis.ch
SUMMARY:Sargans Knappenschiessen
DESCRIPTION:
URL:https://schuetzenbuchsraefis.ch/event/sargans-knappenschiessen-2/2026-06-20/
CATEGORIES:300 Meter
END:VEVENT
BEGIN:VEVENT
DTSTART;TZID=Europe/Vaduz:20260620T090000
DTEND;TZID=Europe/Vaduz:20260620T120000
DTSTAMP:20260424T133315
CREATED:20260119T130446Z
LAST-MODIFIED:20260119T130446Z
UID:10001194-1781946000-1781956800@schuetzenbuchsraefis.ch
SUMMARY:Training
DESCRIPTION:
URL:https://schuetzenbuchsraefis.ch/event/training-14/2026-06-20/
CATEGORIES:300 Meter
END:VEVENT
BEGIN:VEVENT
DTSTART;TZID=Europe/Vaduz:20260621T083000
DTEND;TZID=Europe/Vaduz:20260621T120000
DTSTAMP:20260424T133315
CREATED:20260223T094345Z
LAST-MODIFIED:20260223T094345Z
UID:10001253-1782030600-1782043200@schuetzenbuchsraefis.ch
SUMMARY:Sargans Knappenschiessen
DESCRIPTION:
URL:https://schuetzenbuchsraefis.ch/event/sargans-knappenschiessen-3/
CATEGORIES:300 Meter
END:VEVENT
BEGIN:VEVENT
DTSTART;TZID=Europe/Vaduz:20260621T100000
DTEND;TZID=Europe/Vaduz:20260621T150000
DTSTAMP:20260424T133315
CREATED:20260223T094744Z
LAST-MODIFIED:20260223T094744Z
UID:10001257-1782036000-1782054000@schuetzenbuchsraefis.ch
SUMMARY:Wildhaus Schofbergschiessen
DESCRIPTION:
URL:https://schuetzenbuchsraefis.ch/event/wildhaus-schofbergschiessen-3/
CATEGORIES:300 Meter
END:VEVENT
BEGIN:VEVENT
DTSTART;TZID=Europe/Vaduz:20260623T180000
DTEND;TZID=Europe/Vaduz:20260623T203000
DTSTAMP:20260424T133315
CREATED:20260119T122444Z
LAST-MODIFIED:20260119T122444Z
UID:10001138-1782237600-1782246600@schuetzenbuchsraefis.ch
SUMMARY:Training
DESCRIPTION:
URL:https://schuetzenbuchsraefis.ch/event/training/2026-06-23/
CATEGORIES:300 Meter
END:VEVENT
BEGIN:VEVENT
DTSTART;TZID=Europe/Vaduz:20260623T190000
DTEND;TZID=Europe/Vaduz:20260623T211500
DTSTAMP:20260424T133315
CREATED:20260119T120331Z
LAST-MODIFIED:20260119T120331Z
UID:10001117-1782241200-1782249300@schuetzenbuchsraefis.ch
SUMMARY:JS-Kurs
DESCRIPTION:
URL:https://schuetzenbuchsraefis.ch/event/js-kurs-6/2026-06-23/
CATEGORIES:300 Meter
END:VEVENT
BEGIN:VEVENT
DTSTART;TZID=Europe/Vaduz:20260625T180000
DTEND;TZID=Europe/Vaduz:20260625T203000
DTSTAMP:20260424T133315
CREATED:20260119T125621Z
LAST-MODIFIED:20260119T125621Z
UID:10001178-1782410400-1782419400@schuetzenbuchsraefis.ch
SUMMARY:Training
DESCRIPTION:
URL:https://schuetzenbuchsraefis.ch/event/training-8/2026-06-25/
CATEGORIES:300 Meter
END:VEVENT
BEGIN:VEVENT
DTSTART;TZID=Europe/Vaduz:20260627T090000
DTEND;TZID=Europe/Vaduz:20260627T120000
DTSTAMP:20260424T133315
CREATED:20260119T130446Z
LAST-MODIFIED:20260119T130446Z
UID:10001195-1782550800-1782561600@schuetzenbuchsraefis.ch
SUMMARY:Training
DESCRIPTION:
URL:https://schuetzenbuchsraefis.ch/event/training-14/2026-06-27/
CATEGORIES:300 Meter
END:VEVENT
BEGIN:VEVENT
DTSTART;TZID=Europe/Vaduz:20260630T180000
DTEND;TZID=Europe/Vaduz:20260630T203000
DTSTAMP:20260424T133315
CREATED:20260119T122444Z
LAST-MODIFIED:20260119T122444Z
UID:10001139-1782842400-1782851400@schuetzenbuchsraefis.ch
SUMMARY:Training
DESCRIPTION:
URL:https://schuetzenbuchsraefis.ch/event/training/2026-06-30/
CATEGORIES:300 Meter
END:VEVENT
BEGIN:VEVENT
DTSTART;TZID=Europe/Vaduz:20260702T180000
DTEND;TZID=Europe/Vaduz:20260702T203000
DTSTAMP:20260424T133315
CREATED:20260119T125621Z
LAST-MODIFIED:20260119T125621Z
UID:10001179-1783015200-1783024200@schuetzenbuchsraefis.ch
SUMMARY:Training
DESCRIPTION:
URL:https://schuetzenbuchsraefis.ch/event/training-8/2026-07-02/
CATEGORIES:300 Meter
END:VEVENT
BEGIN:VEVENT
DTSTART;TZID=Europe/Vaduz:20260704T090000
DTEND;TZID=Europe/Vaduz:20260704T120000
DTSTAMP:20260424T133315
CREATED:20260119T130446Z
LAST-MODIFIED:20260119T130446Z
UID:10001196-1783155600-1783166400@schuetzenbuchsraefis.ch
SUMMARY:Training
DESCRIPTION:
URL:https://schuetzenbuchsraefis.ch/event/training-14/2026-07-04/
CATEGORIES:300 Meter
END:VEVENT
BEGIN:VEVENT
DTSTART;TZID=Europe/Vaduz:20260704T130000
DTEND;TZID=Europe/Vaduz:20260704T160000
DTSTAMP:20260424T133315
CREATED:20260119T124156Z
LAST-MODIFIED:20260119T124156Z
UID:10001161-1783170000-1783180800@schuetzenbuchsraefis.ch
SUMMARY:Gästeschiessen
DESCRIPTION:
URL:https://schuetzenbuchsraefis.ch/event/gaesteschiessen-6/
CATEGORIES:300 Meter
END:VEVENT
BEGIN:VEVENT
DTSTART;TZID=Europe/Vaduz:20260707T180000
DTEND;TZID=Europe/Vaduz:20260707T203000
DTSTAMP:20260424T133315
CREATED:20260119T122702Z
LAST-MODIFIED:20260119T122702Z
UID:10001140-1783447200-1783456200@schuetzenbuchsraefis.ch
SUMMARY:Training
DESCRIPTION:
URL:https://schuetzenbuchsraefis.ch/event/training-2/2026-07-07/
CATEGORIES:300 Meter
END:VEVENT
BEGIN:VEVENT
DTSTART;TZID=Europe/Vaduz:20260714T180000
DTEND;TZID=Europe/Vaduz:20260714T203000
DTSTAMP:20260424T133315
CREATED:20260119T122702Z
LAST-MODIFIED:20260119T122702Z
UID:10001141-1784052000-1784061000@schuetzenbuchsraefis.ch
SUMMARY:Training
DESCRIPTION:
URL:https://schuetzenbuchsraefis.ch/event/training-2/2026-07-14/
CATEGORIES:300 Meter
END:VEVENT
BEGIN:VEVENT
DTSTART;TZID=Europe/Vaduz:20260721T180000
DTEND;TZID=Europe/Vaduz:20260721T203000
DTSTAMP:20260424T133315
CREATED:20260119T122702Z
LAST-MODIFIED:20260119T122702Z
UID:10001142-1784656800-1784665800@schuetzenbuchsraefis.ch
SUMMARY:Training
DESCRIPTION:
URL:https://schuetzenbuchsraefis.ch/event/training-2/2026-07-21/
CATEGORIES:300 Meter
END:VEVENT
BEGIN:VEVENT
DTSTART;TZID=Europe/Vaduz:20260728T180000
DTEND;TZID=Europe/Vaduz:20260728T203000
DTSTAMP:20260424T133315
CREATED:20260119T122702Z
LAST-MODIFIED:20260119T122702Z
UID:10001143-1785261600-1785270600@schuetzenbuchsraefis.ch
SUMMARY:Training
DESCRIPTION:
URL:https://schuetzenbuchsraefis.ch/event/training-2/2026-07-28/
CATEGORIES:300 Meter
END:VEVENT
BEGIN:VEVENT
DTSTART;TZID=Europe/Vaduz:20260731T160000
DTEND;TZID=Europe/Vaduz:20260731T200000
DTSTAMP:20260424T133315
CREATED:20260223T094909Z
LAST-MODIFIED:20260223T094909Z
UID:10001258-1785513600-1785528000@schuetzenbuchsraefis.ch
SUMMARY:Flums 1. Augustschiessen
DESCRIPTION:
URL:https://schuetzenbuchsraefis.ch/event/flums-1-augustschiessen/
CATEGORIES:300 Meter
END:VEVENT
BEGIN:VEVENT
DTSTART;TZID=Europe/Vaduz:20260801T080000
DTEND;TZID=Europe/Vaduz:20260801T150000
DTSTAMP:20260424T133315
CREATED:20260223T094956Z
LAST-MODIFIED:20260223T094956Z
UID:10001259-1785571200-1785596400@schuetzenbuchsraefis.ch
SUMMARY:Flums 1. Augustschiessen
DESCRIPTION:
URL:https://schuetzenbuchsraefis.ch/event/flums-1-augustschiessen-2/
CATEGORIES:300 Meter
END:VEVENT
BEGIN:VEVENT
DTSTART;TZID=Europe/Vaduz:20260803T100000
DTEND;TZID=Europe/Vaduz:20260803T120000
DTSTAMP:20260424T133315
CREATED:20260119T132334Z
LAST-MODIFIED:20260119T132334Z
UID:10001209-1785751200-1785758400@schuetzenbuchsraefis.ch
SUMMARY:Sportwoche
DESCRIPTION:
URL:https://schuetzenbuchsraefis.ch/event/sportwoche/2026-08-03/
CATEGORIES:300 Meter,50 Meter,10 Meter
END:VEVENT
BEGIN:VEVENT
DTSTART;TZID=Europe/Vaduz:20260804T100000
DTEND;TZID=Europe/Vaduz:20260804T120000
DTSTAMP:20260424T133315
CREATED:20260119T132334Z
LAST-MODIFIED:20260119T132334Z
UID:10001210-1785837600-1785844800@schuetzenbuchsraefis.ch
SUMMARY:Sportwoche
DESCRIPTION:
URL:https://schuetzenbuchsraefis.ch/event/sportwoche/2026-08-04/
CATEGORIES:300 Meter,50 Meter,10 Meter
END:VEVENT
BEGIN:VEVENT
DTSTART;TZID=Europe/Vaduz:20260804T180000
DTEND;TZID=Europe/Vaduz:20260804T203000
DTSTAMP:20260424T133315
CREATED:20260119T122702Z
LAST-MODIFIED:20260119T122702Z
UID:10001144-1785866400-1785875400@schuetzenbuchsraefis.ch
SUMMARY:Training
DESCRIPTION:
URL:https://schuetzenbuchsraefis.ch/event/training-2/2026-08-04/
CATEGORIES:300 Meter
END:VEVENT
BEGIN:VEVENT
DTSTART;TZID=Europe/Vaduz:20260805T100000
DTEND;TZID=Europe/Vaduz:20260805T120000
DTSTAMP:20260424T133315
CREATED:20260119T132334Z
LAST-MODIFIED:20260119T132334Z
UID:10001211-1785924000-1785931200@schuetzenbuchsraefis.ch
SUMMARY:Sportwoche
DESCRIPTION:
URL:https://schuetzenbuchsraefis.ch/event/sportwoche/2026-08-05/
CATEGORIES:300 Meter,50 Meter,10 Meter
END:VEVENT
BEGIN:VEVENT
DTSTART;TZID=Europe/Vaduz:20260806T100000
DTEND;TZID=Europe/Vaduz:20260806T120000
DTSTAMP:20260424T133315
CREATED:20260119T132334Z
LAST-MODIFIED:20260119T132334Z
UID:10001212-1786010400-1786017600@schuetzenbuchsraefis.ch
SUMMARY:Sportwoche
DESCRIPTION:
URL:https://schuetzenbuchsraefis.ch/event/sportwoche/2026-08-06/
CATEGORIES:300 Meter,50 Meter,10 Meter
END:VEVENT
BEGIN:VEVENT
DTSTART;TZID=Europe/Vaduz:20260806T180000
DTEND;TZID=Europe/Vaduz:20260806T203000
DTSTAMP:20260424T133315
CREATED:20260119T125737Z
LAST-MODIFIED:20260119T125737Z
UID:10001180-1786039200-1786048200@schuetzenbuchsraefis.ch
SUMMARY:Training
DESCRIPTION:
URL:https://schuetzenbuchsraefis.ch/event/training-9/2026-08-06/
CATEGORIES:300 Meter
END:VEVENT
BEGIN:VEVENT
DTSTART;TZID=Europe/Vaduz:20260807T100000
DTEND;TZID=Europe/Vaduz:20260807T120000
DTSTAMP:20260424T133315
CREATED:20260119T132334Z
LAST-MODIFIED:20260119T132334Z
UID:10001213-1786096800-1786104000@schuetzenbuchsraefis.ch
SUMMARY:Sportwoche
DESCRIPTION:
URL:https://schuetzenbuchsraefis.ch/event/sportwoche/2026-08-07/
CATEGORIES:300 Meter,50 Meter,10 Meter
END:VEVENT
BEGIN:VEVENT
DTSTART;TZID=Europe/Vaduz:20260808T090000
DTEND;TZID=Europe/Vaduz:20260808T120000
DTSTAMP:20260424T133315
CREATED:20260119T130556Z
LAST-MODIFIED:20260119T130556Z
UID:10001197-1786179600-1786190400@schuetzenbuchsraefis.ch
SUMMARY:Training
DESCRIPTION:
URL:https://schuetzenbuchsraefis.ch/event/training-15/
CATEGORIES:300 Meter
END:VEVENT
BEGIN:VEVENT
DTSTART;TZID=Europe/Vaduz:20260808T130000
DTEND;TZID=Europe/Vaduz:20260808T160000
DTSTAMP:20260424T133315
CREATED:20260119T124247Z
LAST-MODIFIED:20260119T124247Z
UID:10001162-1786194000-1786204800@schuetzenbuchsraefis.ch
SUMMARY:Gästeschiessen
DESCRIPTION:
URL:https://schuetzenbuchsraefis.ch/event/gaesteschiessen-7/
CATEGORIES:300 Meter
END:VEVENT
BEGIN:VEVENT
DTSTART;TZID=Europe/Vaduz:20260811T180000
DTEND;TZID=Europe/Vaduz:20260811T203000
DTSTAMP:20260424T133315
CREATED:20260119T122702Z
LAST-MODIFIED:20260119T122702Z
UID:10001145-1786471200-1786480200@schuetzenbuchsraefis.ch
SUMMARY:Training
DESCRIPTION:
URL:https://schuetzenbuchsraefis.ch/event/training-2/2026-08-11/
CATEGORIES:300 Meter
END:VEVENT
BEGIN:VEVENT
DTSTART;TZID=Europe/Vaduz:20260813T180000
DTEND;TZID=Europe/Vaduz:20260813T203000
DTSTAMP:20260424T133315
CREATED:20260119T125737Z
LAST-MODIFIED:20260119T125737Z
UID:10001181-1786644000-1786653000@schuetzenbuchsraefis.ch
SUMMARY:Training
DESCRIPTION:
URL:https://schuetzenbuchsraefis.ch/event/training-9/2026-08-13/
CATEGORIES:300 Meter
END:VEVENT
BEGIN:VEVENT
DTSTART;TZID=Europe/Vaduz:20260814T160000
DTEND;TZID=Europe/Vaduz:20260814T200000
DTSTAMP:20260424T133315
CREATED:20260223T095049Z
LAST-MODIFIED:20260223T095049Z
UID:10001260-1786723200-1786737600@schuetzenbuchsraefis.ch
SUMMARY:Flums 1. Augustschiessen
DESCRIPTION:
URL:https://schuetzenbuchsraefis.ch/event/flums-1-augustschiessen-3/
CATEGORIES:300 Meter
END:VEVENT
BEGIN:VEVENT
DTSTART;TZID=Europe/Vaduz:20260815T080000
DTEND;TZID=Europe/Vaduz:20260815T120000
DTSTAMP:20260424T133315
CREATED:20260223T095139Z
LAST-MODIFIED:20260223T095139Z
UID:10001261-1786780800-1786795200@schuetzenbuchsraefis.ch
SUMMARY:Flums 1. Augustschiessen
DESCRIPTION:
URL:https://schuetzenbuchsraefis.ch/event/flums-1-augustschiessen-4/
CATEGORIES:300 Meter
END:VEVENT
BEGIN:VEVENT
DTSTART;TZID=Europe/Vaduz:20260815T090000
DTEND;TZID=Europe/Vaduz:20260815T120000
DTSTAMP:20260424T133315
CREATED:20260119T130645Z
LAST-MODIFIED:20260119T130645Z
UID:10001198-1786784400-1786795200@schuetzenbuchsraefis.ch
SUMMARY:Training
DESCRIPTION:
URL:https://schuetzenbuchsraefis.ch/event/training-16/
CATEGORIES:300 Meter
END:VEVENT
BEGIN:VEVENT
DTSTART;TZID=Europe/Vaduz:20260818T180000
DTEND;TZID=Europe/Vaduz:20260818T203000
DTSTAMP:20260424T133315
CREATED:20260119T122702Z
LAST-MODIFIED:20260119T122702Z
UID:10001146-1787076000-1787085000@schuetzenbuchsraefis.ch
SUMMARY:Training
DESCRIPTION:
URL:https://schuetzenbuchsraefis.ch/event/training-2/2026-08-18/
CATEGORIES:300 Meter
END:VEVENT
BEGIN:VEVENT
DTSTART;TZID=Europe/Vaduz:20260820T180000
DTEND;TZID=Europe/Vaduz:20260820T203000
DTSTAMP:20260424T133315
CREATED:20260119T125737Z
LAST-MODIFIED:20260119T125737Z
UID:10001182-1787248800-1787257800@schuetzenbuchsraefis.ch
SUMMARY:Training
DESCRIPTION:
URL:https://schuetzenbuchsraefis.ch/event/training-9/2026-08-20/
CATEGORIES:300 Meter
END:VEVENT
BEGIN:VEVENT
DTSTART;TZID=Europe/Vaduz:20260822T090000
DTEND;TZID=Europe/Vaduz:20260822T140000
DTSTAMP:20260424T133315
CREATED:20260119T121345Z
LAST-MODIFIED:20260119T121345Z
UID:10001122-1787389200-1787407200@schuetzenbuchsraefis.ch
SUMMARY:Bundesprogramm
DESCRIPTION:durchgehend
URL:https://schuetzenbuchsraefis.ch/event/bundesprogramm-3/
CATEGORIES:300 Meter
END:VEVENT
BEGIN:VEVENT
DTSTART;TZID=Europe/Vaduz:20260825T180000
DTEND;TZID=Europe/Vaduz:20260825T203000
DTSTAMP:20260424T133315
CREATED:20260119T122702Z
LAST-MODIFIED:20260119T122702Z
UID:10001147-1787680800-1787689800@schuetzenbuchsraefis.ch
SUMMARY:Training
DESCRIPTION:
URL:https://schuetzenbuchsraefis.ch/event/training-2/2026-08-25/
CATEGORIES:300 Meter
END:VEVENT
BEGIN:VEVENT
DTSTART;TZID=Europe/Vaduz:20260827T180000
DTEND;TZID=Europe/Vaduz:20260827T203000
DTSTAMP:20260424T133315
CREATED:20260119T125737Z
LAST-MODIFIED:20260119T125737Z
UID:10001183-1787853600-1787862600@schuetzenbuchsraefis.ch
SUMMARY:Training
DESCRIPTION:
URL:https://schuetzenbuchsraefis.ch/event/training-9/2026-08-27/
CATEGORIES:300 Meter
END:VEVENT
BEGIN:VEVENT
DTSTART;VALUE=DATE:20260829
DTEND;VALUE=DATE:20260830
DTSTAMP:20260424T133315
CREATED:20260119T130753Z
LAST-MODIFIED:20260119T130753Z
UID:10001199-1787961600-1788047999@schuetzenbuchsraefis.ch
SUMMARY:Buchserfest Stand geschlossen
DESCRIPTION:
URL:https://schuetzenbuchsraefis.ch/event/buchserfest-stand-geschlossen/
CATEGORIES:300 Meter
END:VEVENT
BEGIN:VEVENT
DTSTART;TZID=Europe/Vaduz:20260901T180000
DTEND;TZID=Europe/Vaduz:20260901T203000
DTSTAMP:20260424T133315
CREATED:20260119T122702Z
LAST-MODIFIED:20260119T122702Z
UID:10001148-1788285600-1788294600@schuetzenbuchsraefis.ch
SUMMARY:Training
DESCRIPTION:
URL:https://schuetzenbuchsraefis.ch/event/training-2/2026-09-01/
CATEGORIES:300 Meter
END:VEVENT
BEGIN:VEVENT
DTSTART;TZID=Europe/Vaduz:20260903T180000
DTEND;TZID=Europe/Vaduz:20260903T203000
DTSTAMP:20260424T133315
CREATED:20260119T125737Z
LAST-MODIFIED:20260119T125737Z
UID:10001184-1788458400-1788467400@schuetzenbuchsraefis.ch
SUMMARY:Training
DESCRIPTION:
URL:https://schuetzenbuchsraefis.ch/event/training-9/2026-09-03/
CATEGORIES:300 Meter
END:VEVENT
BEGIN:VEVENT
DTSTART;TZID=Europe/Vaduz:20260905T090000
DTEND;TZID=Europe/Vaduz:20260905T120000
DTSTAMP:20260424T133315
CREATED:20260119T131019Z
LAST-MODIFIED:20260119T131019Z
UID:10001201-1788598800-1788609600@schuetzenbuchsraefis.ch
SUMMARY:Training
DESCRIPTION:
URL:https://schuetzenbuchsraefis.ch/event/training-17/2026-09-05/
CATEGORIES:300 Meter
END:VEVENT
BEGIN:VEVENT
DTSTART;TZID=Europe/Vaduz:20260905T130000
DTEND;TZID=Europe/Vaduz:20260905T160000
DTSTAMP:20260424T133315
CREATED:20260119T124338Z
LAST-MODIFIED:20260119T124338Z
UID:10001163-1788613200-1788624000@schuetzenbuchsraefis.ch
SUMMARY:Gästeschiessen
DESCRIPTION:
URL:https://schuetzenbuchsraefis.ch/event/gaesteschiessen-8/
CATEGORIES:300 Meter
END:VEVENT
BEGIN:VEVENT
DTSTART;TZID=Europe/Vaduz:20260908T180000
DTEND;TZID=Europe/Vaduz:20260908T203000
DTSTAMP:20260424T133315
CREATED:20260119T122702Z
LAST-MODIFIED:20260119T122702Z
UID:10001149-1788890400-1788899400@schuetzenbuchsraefis.ch
SUMMARY:Training
DESCRIPTION:
URL:https://schuetzenbuchsraefis.ch/event/training-2/2026-09-08/
CATEGORIES:300 Meter
END:VEVENT
BEGIN:VEVENT
DTSTART;TZID=Europe/Vaduz:20260910T180000
DTEND;TZID=Europe/Vaduz:20260910T203000
DTSTAMP:20260424T133315
CREATED:20260119T125737Z
LAST-MODIFIED:20260119T125737Z
UID:10001185-1789063200-1789072200@schuetzenbuchsraefis.ch
SUMMARY:Training
DESCRIPTION:
URL:https://schuetzenbuchsraefis.ch/event/training-9/2026-09-10/
CATEGORIES:300 Meter
END:VEVENT
BEGIN:VEVENT
DTSTART;TZID=Europe/Vaduz:20260912T090000
DTEND;TZID=Europe/Vaduz:20260912T120000
DTSTAMP:20260424T133315
CREATED:20260119T131019Z
LAST-MODIFIED:20260119T131019Z
UID:10001202-1789203600-1789214400@schuetzenbuchsraefis.ch
SUMMARY:Training
DESCRIPTION:
URL:https://schuetzenbuchsraefis.ch/event/training-17/2026-09-12/
CATEGORIES:300 Meter
END:VEVENT
BEGIN:VEVENT
DTSTART;TZID=Europe/Vaduz:20260915T180000
DTEND;TZID=Europe/Vaduz:20260915T203000
DTSTAMP:20260424T133315
CREATED:20260119T122702Z
LAST-MODIFIED:20260119T122702Z
UID:10001150-1789495200-1789504200@schuetzenbuchsraefis.ch
SUMMARY:Training
DESCRIPTION:
URL:https://schuetzenbuchsraefis.ch/event/training-2/2026-09-15/
CATEGORIES:300 Meter
END:VEVENT
BEGIN:VEVENT
DTSTART;TZID=Europe/Vaduz:20260917T180000
DTEND;TZID=Europe/Vaduz:20260917T203000
DTSTAMP:20260424T133315
CREATED:20260119T125737Z
LAST-MODIFIED:20260119T125737Z
UID:10001186-1789668000-1789677000@schuetzenbuchsraefis.ch
SUMMARY:Training
DESCRIPTION:
URL:https://schuetzenbuchsraefis.ch/event/training-9/2026-09-17/
CATEGORIES:300 Meter
END:VEVENT
BEGIN:VEVENT
DTSTART;TZID=Europe/Vaduz:20260919T090000
DTEND;TZID=Europe/Vaduz:20260919T120000
DTSTAMP:20260424T133315
CREATED:20260119T131019Z
LAST-MODIFIED:20260119T131019Z
UID:10001203-1789808400-1789819200@schuetzenbuchsraefis.ch
SUMMARY:Training
DESCRIPTION:
URL:https://schuetzenbuchsraefis.ch/event/training-17/2026-09-19/
CATEGORIES:300 Meter
END:VEVENT
BEGIN:VEVENT
DTSTART;TZID=Europe/Vaduz:20260922T180000
DTEND;TZID=Europe/Vaduz:20260922T203000
DTSTAMP:20260424T133315
CREATED:20260119T122702Z
LAST-MODIFIED:20260119T122702Z
UID:10001151-1790100000-1790109000@schuetzenbuchsraefis.ch
SUMMARY:Training
DESCRIPTION:
URL:https://schuetzenbuchsraefis.ch/event/training-2/2026-09-22/
CATEGORIES:300 Meter
END:VEVENT
BEGIN:VEVENT
DTSTART;TZID=Europe/Vaduz:20260924T180000
DTEND;TZID=Europe/Vaduz:20260924T203000
DTSTAMP:20260424T133315
CREATED:20260119T125737Z
LAST-MODIFIED:20260119T125737Z
UID:10001187-1790272800-1790281800@schuetzenbuchsraefis.ch
SUMMARY:Training
DESCRIPTION:
URL:https://schuetzenbuchsraefis.ch/event/training-9/2026-09-24/
CATEGORIES:300 Meter
END:VEVENT
BEGIN:VEVENT
DTSTART;TZID=Europe/Vaduz:20260926T130000
DTEND;TZID=Europe/Vaduz:20260926T160000
DTSTAMP:20260424T133315
CREATED:20260119T130857Z
LAST-MODIFIED:20260119T130857Z
UID:10001200-1790427600-1790438400@schuetzenbuchsraefis.ch
SUMMARY:Endschiessen
DESCRIPTION:
URL:https://schuetzenbuchsraefis.ch/event/endschiessen/
CATEGORIES:300 Meter,50 Meter,10 Meter
END:VEVENT
BEGIN:VEVENT
DTSTART;TZID=Europe/Vaduz:20261003T130000
DTEND;TZID=Europe/Vaduz:20261003T160000
DTSTAMP:20260424T133315
CREATED:20260119T124424Z
LAST-MODIFIED:20260119T124424Z
UID:10001164-1791032400-1791043200@schuetzenbuchsraefis.ch
SUMMARY:Gästeschiessen
DESCRIPTION:
URL:https://schuetzenbuchsraefis.ch/event/gaesteschiessen-9/
CATEGORIES:300 Meter
END:VEVENT
BEGIN:VEVENT
DTSTART;VALUE=DATE:20261017
DTEND;VALUE=DATE:20261018
DTSTAMP:20260424T133315
CREATED:20260119T114840Z
LAST-MODIFIED:20260119T114840Z
UID:10001101-1792195200-1792281599@schuetzenbuchsraefis.ch
SUMMARY:Schützenmeister-WK
DESCRIPTION:
URL:https://schuetzenbuchsraefis.ch/event/schuetzenmeister-wk/
CATEGORIES:300 Meter,50 Meter,10 Meter
END:VEVENT
BEGIN:VEVENT
DTSTART;TZID=Europe/Vaduz:20261031T080000
DTEND;TZID=Europe/Vaduz:20261031T170000
DTSTAMP:20260424T133315
CREATED:20260119T124506Z
LAST-MODIFIED:20260119T124506Z
UID:10001165-1793433600-1793466000@schuetzenbuchsraefis.ch
SUMMARY:Gästeschiessen
DESCRIPTION:
URL:https://schuetzenbuchsraefis.ch/event/gaesteschiessen-10/
CATEGORIES:300 Meter
END:VEVENT
BEGIN:VEVENT
DTSTART;TZID=Europe/Vaduz:20261031T090000
DTEND;TZID=Europe/Vaduz:20261031T120000
DTSTAMP:20260424T133315
CREATED:20260119T131114Z
LAST-MODIFIED:20260119T131114Z
UID:10001204-1793437200-1793448000@schuetzenbuchsraefis.ch
SUMMARY:Training
DESCRIPTION:
URL:https://schuetzenbuchsraefis.ch/event/training-18/
CATEGORIES:300 Meter
END:VEVENT
BEGIN:VEVENT
DTSTART;VALUE=DATE:20261107
DTEND;VALUE=DATE:20261108
DTSTAMP:20260424T133315
CREATED:20260119T132636Z
LAST-MODIFIED:20260119T132636Z
UID:10001216-1794009600-1794095999@schuetzenbuchsraefis.ch
SUMMARY:OMM Final in Buchs
DESCRIPTION:
URL:https://schuetzenbuchsraefis.ch/event/omm-final-in-buchs/
CATEGORIES:300 Meter,50 Meter,10 Meter
END:VEVENT
BEGIN:VEVENT
DTSTART;TZID=Europe/Vaduz:20261114T090000
DTEND;TZID=Europe/Vaduz:20261114T160000
DTSTAMP:20260424T133315
CREATED:20260119T132440Z
LAST-MODIFIED:20260119T132440Z
UID:10001214-1794646800-1794672000@schuetzenbuchsraefis.ch
SUMMARY:Freundschaftscup
DESCRIPTION:
URL:https://schuetzenbuchsraefis.ch/event/freundschaftscup/
CATEGORIES:300 Meter,50 Meter,10 Meter
END:VEVENT
BEGIN:VEVENT
DTSTART;TZID=Europe/Vaduz:20261202T190000
DTEND;TZID=Europe/Vaduz:20261202T233000
DTSTAMP:20260424T133315
CREATED:20260119T114959Z
LAST-MODIFIED:20260119T114959Z
UID:10001102-1796238000-1796254200@schuetzenbuchsraefis.ch
SUMMARY:Restaurant besetzt
DESCRIPTION:BSV-Vorstand
URL:https://schuetzenbuchsraefis.ch/event/restaurant-besetzt-5/
CATEGORIES:300 Meter,50 Meter,10 Meter
END:VEVENT
BEGIN:VEVENT
DTSTART;TZID=Europe/Vaduz:20261205T130000
DTEND;TZID=Europe/Vaduz:20261205T160000
DTSTAMP:20260424T133315
CREATED:20260119T132540Z
LAST-MODIFIED:20260119T132540Z
UID:10001215-1796475600-1796486400@schuetzenbuchsraefis.ch
SUMMARY:Chlausschiessen
DESCRIPTION:
URL:https://schuetzenbuchsraefis.ch/event/chlausschiessen/
CATEGORIES:300 Meter,50 Meter,10 Meter
END:VEVENT
END:VCALENDAR