BEGIN:VCALENDAR
VERSION:2.0
PRODID:-//Schützengesellschaft Buchs-Räfis - ECPv6.15.20//NONSGML v1.0//EN
CALSCALE:GREGORIAN
METHOD:PUBLISH
X-ORIGINAL-URL:https://schuetzenbuchsraefis.ch
X-WR-CALDESC:Veranstaltungen für Schützengesellschaft Buchs-Räfis
REFRESH-INTERVAL;VALUE=DURATION:PT1H
X-Robots-Tag:noindex
X-PUBLISHED-TTL:PT1H
BEGIN:VTIMEZONE
TZID:Europe/Vaduz
BEGIN:DAYLIGHT
TZOFFSETFROM:+0100
TZOFFSETTO:+0200
TZNAME:CEST
DTSTART:20250330T010000
END:DAYLIGHT
BEGIN:STANDARD
TZOFFSETFROM:+0200
TZOFFSETTO:+0100
TZNAME:CET
DTSTART:20251026T010000
END:STANDARD
BEGIN:DAYLIGHT
TZOFFSETFROM:+0100
TZOFFSETTO:+0200
TZNAME:CEST
DTSTART:20260329T010000
END:DAYLIGHT
BEGIN:STANDARD
TZOFFSETFROM:+0200
TZOFFSETTO:+0100
TZNAME:CET
DTSTART:20261025T010000
END:STANDARD
BEGIN:DAYLIGHT
TZOFFSETFROM:+0100
TZOFFSETTO:+0200
TZNAME:CEST
DTSTART:20270328T010000
END:DAYLIGHT
BEGIN:STANDARD
TZOFFSETFROM:+0200
TZOFFSETTO:+0100
TZNAME:CET
DTSTART:20271031T010000
END:STANDARD
END:VTIMEZONE
BEGIN:VEVENT
DTSTART;TZID=Europe/Vaduz:20260801T080000
DTEND;TZID=Europe/Vaduz:20260801T150000
DTSTAMP:20260424T123042
CREATED:20260223T094956Z
LAST-MODIFIED:20260223T094956Z
UID:10001259-1785571200-1785596400@schuetzenbuchsraefis.ch
SUMMARY:Flums 1. Augustschiessen
DESCRIPTION:
URL:https://schuetzenbuchsraefis.ch/event/flums-1-augustschiessen-2/
CATEGORIES:300 Meter
END:VEVENT
BEGIN:VEVENT
DTSTART;TZID=Europe/Vaduz:20260803T100000
DTEND;TZID=Europe/Vaduz:20260803T120000
DTSTAMP:20260424T123042
CREATED:20260119T132334Z
LAST-MODIFIED:20260119T132334Z
UID:10001209-1785751200-1785758400@schuetzenbuchsraefis.ch
SUMMARY:Sportwoche
DESCRIPTION:
URL:https://schuetzenbuchsraefis.ch/event/sportwoche/2026-08-03/
CATEGORIES:50 Meter,10 Meter,300 Meter
END:VEVENT
BEGIN:VEVENT
DTSTART;TZID=Europe/Vaduz:20260804T100000
DTEND;TZID=Europe/Vaduz:20260804T120000
DTSTAMP:20260424T123042
CREATED:20260119T132334Z
LAST-MODIFIED:20260119T132334Z
UID:10001210-1785837600-1785844800@schuetzenbuchsraefis.ch
SUMMARY:Sportwoche
DESCRIPTION:
URL:https://schuetzenbuchsraefis.ch/event/sportwoche/2026-08-04/
CATEGORIES:50 Meter,10 Meter,300 Meter
END:VEVENT
BEGIN:VEVENT
DTSTART;TZID=Europe/Vaduz:20260804T180000
DTEND;TZID=Europe/Vaduz:20260804T203000
DTSTAMP:20260424T123042
CREATED:20260119T122702Z
LAST-MODIFIED:20260119T122702Z
UID:10001144-1785866400-1785875400@schuetzenbuchsraefis.ch
SUMMARY:Training
DESCRIPTION:
URL:https://schuetzenbuchsraefis.ch/event/training-2/2026-08-04/
CATEGORIES:300 Meter
END:VEVENT
BEGIN:VEVENT
DTSTART;TZID=Europe/Vaduz:20260805T100000
DTEND;TZID=Europe/Vaduz:20260805T120000
DTSTAMP:20260424T123042
CREATED:20260119T132334Z
LAST-MODIFIED:20260119T132334Z
UID:10001211-1785924000-1785931200@schuetzenbuchsraefis.ch
SUMMARY:Sportwoche
DESCRIPTION:
URL:https://schuetzenbuchsraefis.ch/event/sportwoche/2026-08-05/
CATEGORIES:50 Meter,10 Meter,300 Meter
END:VEVENT
BEGIN:VEVENT
DTSTART;TZID=Europe/Vaduz:20260806T100000
DTEND;TZID=Europe/Vaduz:20260806T120000
DTSTAMP:20260424T123042
CREATED:20260119T132334Z
LAST-MODIFIED:20260119T132334Z
UID:10001212-1786010400-1786017600@schuetzenbuchsraefis.ch
SUMMARY:Sportwoche
DESCRIPTION:
URL:https://schuetzenbuchsraefis.ch/event/sportwoche/2026-08-06/
CATEGORIES:50 Meter,10 Meter,300 Meter
END:VEVENT
BEGIN:VEVENT
DTSTART;TZID=Europe/Vaduz:20260806T180000
DTEND;TZID=Europe/Vaduz:20260806T203000
DTSTAMP:20260424T123042
CREATED:20260119T125737Z
LAST-MODIFIED:20260119T125737Z
UID:10001180-1786039200-1786048200@schuetzenbuchsraefis.ch
SUMMARY:Training
DESCRIPTION:
URL:https://schuetzenbuchsraefis.ch/event/training-9/2026-08-06/
CATEGORIES:300 Meter
END:VEVENT
BEGIN:VEVENT
DTSTART;TZID=Europe/Vaduz:20260807T100000
DTEND;TZID=Europe/Vaduz:20260807T120000
DTSTAMP:20260424T123042
CREATED:20260119T132334Z
LAST-MODIFIED:20260119T132334Z
UID:10001213-1786096800-1786104000@schuetzenbuchsraefis.ch
SUMMARY:Sportwoche
DESCRIPTION:
URL:https://schuetzenbuchsraefis.ch/event/sportwoche/2026-08-07/
CATEGORIES:50 Meter,10 Meter,300 Meter
END:VEVENT
BEGIN:VEVENT
DTSTART;TZID=Europe/Vaduz:20260808T090000
DTEND;TZID=Europe/Vaduz:20260808T120000
DTSTAMP:20260424T123042
CREATED:20260119T130556Z
LAST-MODIFIED:20260119T130556Z
UID:10001197-1786179600-1786190400@schuetzenbuchsraefis.ch
SUMMARY:Training
DESCRIPTION:
URL:https://schuetzenbuchsraefis.ch/event/training-15/
CATEGORIES:300 Meter
END:VEVENT
BEGIN:VEVENT
DTSTART;TZID=Europe/Vaduz:20260808T130000
DTEND;TZID=Europe/Vaduz:20260808T160000
DTSTAMP:20260424T123042
CREATED:20260119T124247Z
LAST-MODIFIED:20260119T124247Z
UID:10001162-1786194000-1786204800@schuetzenbuchsraefis.ch
SUMMARY:Gästeschiessen
DESCRIPTION:
URL:https://schuetzenbuchsraefis.ch/event/gaesteschiessen-7/
CATEGORIES:300 Meter
END:VEVENT
BEGIN:VEVENT
DTSTART;TZID=Europe/Vaduz:20260811T180000
DTEND;TZID=Europe/Vaduz:20260811T203000
DTSTAMP:20260424T123042
CREATED:20260119T122702Z
LAST-MODIFIED:20260119T122702Z
UID:10001145-1786471200-1786480200@schuetzenbuchsraefis.ch
SUMMARY:Training
DESCRIPTION:
URL:https://schuetzenbuchsraefis.ch/event/training-2/2026-08-11/
CATEGORIES:300 Meter
END:VEVENT
BEGIN:VEVENT
DTSTART;TZID=Europe/Vaduz:20260813T180000
DTEND;TZID=Europe/Vaduz:20260813T203000
DTSTAMP:20260424T123042
CREATED:20260119T125737Z
LAST-MODIFIED:20260119T125737Z
UID:10001181-1786644000-1786653000@schuetzenbuchsraefis.ch
SUMMARY:Training
DESCRIPTION:
URL:https://schuetzenbuchsraefis.ch/event/training-9/2026-08-13/
CATEGORIES:300 Meter
END:VEVENT
BEGIN:VEVENT
DTSTART;TZID=Europe/Vaduz:20260814T160000
DTEND;TZID=Europe/Vaduz:20260814T200000
DTSTAMP:20260424T123042
CREATED:20260223T095049Z
LAST-MODIFIED:20260223T095049Z
UID:10001260-1786723200-1786737600@schuetzenbuchsraefis.ch
SUMMARY:Flums 1. Augustschiessen
DESCRIPTION:
URL:https://schuetzenbuchsraefis.ch/event/flums-1-augustschiessen-3/
CATEGORIES:300 Meter
END:VEVENT
BEGIN:VEVENT
DTSTART;TZID=Europe/Vaduz:20260815T080000
DTEND;TZID=Europe/Vaduz:20260815T120000
DTSTAMP:20260424T123042
CREATED:20260223T095139Z
LAST-MODIFIED:20260223T095139Z
UID:10001261-1786780800-1786795200@schuetzenbuchsraefis.ch
SUMMARY:Flums 1. Augustschiessen
DESCRIPTION:
URL:https://schuetzenbuchsraefis.ch/event/flums-1-augustschiessen-4/
CATEGORIES:300 Meter
END:VEVENT
BEGIN:VEVENT
DTSTART;TZID=Europe/Vaduz:20260815T090000
DTEND;TZID=Europe/Vaduz:20260815T120000
DTSTAMP:20260424T123042
CREATED:20260119T130645Z
LAST-MODIFIED:20260119T130645Z
UID:10001198-1786784400-1786795200@schuetzenbuchsraefis.ch
SUMMARY:Training
DESCRIPTION:
URL:https://schuetzenbuchsraefis.ch/event/training-16/
CATEGORIES:300 Meter
END:VEVENT
BEGIN:VEVENT
DTSTART;TZID=Europe/Vaduz:20260818T180000
DTEND;TZID=Europe/Vaduz:20260818T203000
DTSTAMP:20260424T123042
CREATED:20260119T122702Z
LAST-MODIFIED:20260119T122702Z
UID:10001146-1787076000-1787085000@schuetzenbuchsraefis.ch
SUMMARY:Training
DESCRIPTION:
URL:https://schuetzenbuchsraefis.ch/event/training-2/2026-08-18/
CATEGORIES:300 Meter
END:VEVENT
BEGIN:VEVENT
DTSTART;TZID=Europe/Vaduz:20260820T180000
DTEND;TZID=Europe/Vaduz:20260820T203000
DTSTAMP:20260424T123042
CREATED:20260119T125737Z
LAST-MODIFIED:20260119T125737Z
UID:10001182-1787248800-1787257800@schuetzenbuchsraefis.ch
SUMMARY:Training
DESCRIPTION:
URL:https://schuetzenbuchsraefis.ch/event/training-9/2026-08-20/
CATEGORIES:300 Meter
END:VEVENT
BEGIN:VEVENT
DTSTART;TZID=Europe/Vaduz:20260822T090000
DTEND;TZID=Europe/Vaduz:20260822T140000
DTSTAMP:20260424T123042
CREATED:20260119T121345Z
LAST-MODIFIED:20260119T121345Z
UID:10001122-1787389200-1787407200@schuetzenbuchsraefis.ch
SUMMARY:Bundesprogramm
DESCRIPTION:durchgehend
URL:https://schuetzenbuchsraefis.ch/event/bundesprogramm-3/
CATEGORIES:300 Meter
END:VEVENT
BEGIN:VEVENT
DTSTART;TZID=Europe/Vaduz:20260825T180000
DTEND;TZID=Europe/Vaduz:20260825T203000
DTSTAMP:20260424T123042
CREATED:20260119T122702Z
LAST-MODIFIED:20260119T122702Z
UID:10001147-1787680800-1787689800@schuetzenbuchsraefis.ch
SUMMARY:Training
DESCRIPTION:
URL:https://schuetzenbuchsraefis.ch/event/training-2/2026-08-25/
CATEGORIES:300 Meter
END:VEVENT
BEGIN:VEVENT
DTSTART;TZID=Europe/Vaduz:20260827T180000
DTEND;TZID=Europe/Vaduz:20260827T203000
DTSTAMP:20260424T123042
CREATED:20260119T125737Z
LAST-MODIFIED:20260119T125737Z
UID:10001183-1787853600-1787862600@schuetzenbuchsraefis.ch
SUMMARY:Training
DESCRIPTION:
URL:https://schuetzenbuchsraefis.ch/event/training-9/2026-08-27/
CATEGORIES:300 Meter
END:VEVENT
BEGIN:VEVENT
DTSTART;VALUE=DATE:20260829
DTEND;VALUE=DATE:20260830
DTSTAMP:20260424T123042
CREATED:20260119T130753Z
LAST-MODIFIED:20260119T130753Z
UID:10001199-1787961600-1788047999@schuetzenbuchsraefis.ch
SUMMARY:Buchserfest Stand geschlossen
DESCRIPTION:
URL:https://schuetzenbuchsraefis.ch/event/buchserfest-stand-geschlossen/
CATEGORIES:300 Meter
END:VEVENT
END:VCALENDAR